BEGIN:VCALENDAR
VERSION:2.0
PRODID:-//Kaua‘i Climate Adaptation Plan - ECPv6.15.20//NONSGML v1.0//EN
CALSCALE:GREGORIAN
METHOD:PUBLISH
X-WR-CALNAME:Kaua‘i Climate Adaptation Plan
X-ORIGINAL-URL:https://kauaiadaptation.com
X-WR-CALDESC:Events for Kaua‘i Climate Adaptation Plan
REFRESH-INTERVAL;VALUE=DURATION:PT1H
X-Robots-Tag:noindex
X-PUBLISHED-TTL:PT1H
BEGIN:VTIMEZONE
TZID:Pacific/Honolulu
BEGIN:STANDARD
TZOFFSETFROM:-1000
TZOFFSETTO:-1000
TZNAME:HST
DTSTART:20210101T000000
END:STANDARD
END:VTIMEZONE
BEGIN:VEVENT
DTSTART;TZID=Pacific/Honolulu:20250515T170000
DTEND;TZID=Pacific/Honolulu:20250515T190000
DTSTAMP:20260425T070911
CREATED:20250417T222459Z
LAST-MODIFIED:20250417T222500Z
UID:2250-1747328400-1747335600@kauaiadaptation.com
SUMMARY:In-Person Open House
DESCRIPTION:
URL:https://kauaiadaptation.com/event/in-person-open-house-2/
LOCATION:Hanapēpē Public Library\, 4490 Kona Rd\, Hanapepe\, HI\, 96716\, United States
CATEGORIES:Open House
END:VEVENT
BEGIN:VEVENT
DTSTART;TZID=Pacific/Honolulu:20250513T163000
DTEND;TZID=Pacific/Honolulu:20250513T190000
DTSTAMP:20260425T070911
CREATED:20250417T222317Z
LAST-MODIFIED:20250417T222549Z
UID:2247-1747153800-1747162800@kauaiadaptation.com
SUMMARY:In-Person Open House & East Kauaʻi Community and Circulation Plan Climate Change Hazards Workshop
DESCRIPTION:
URL:https://kauaiadaptation.com/event/in-person-open-house-east-kaua%ca%bbi-community-and-circulation-plan-climate-change-hazards-workshop/
LOCATION:Kalukalu Economic Resilience Center\, 4-1624 Kuhio Hwy\, Kapaʻa\, HI\, 96746\, United States
CATEGORIES:Community Workshops,Open House
END:VEVENT
BEGIN:VEVENT
DTSTART;TZID=Pacific/Honolulu:20250506T170000
DTEND;TZID=Pacific/Honolulu:20250506T190000
DTSTAMP:20260425T070911
CREATED:20250417T222106Z
LAST-MODIFIED:20250417T222544Z
UID:2243-1746550800-1746558000@kauaiadaptation.com
SUMMARY:In-Person Open House
DESCRIPTION:
URL:https://kauaiadaptation.com/event/in-person-open-house/
LOCATION:Waipā Foundation @ Keanolani Hale
CATEGORIES:Open House
END:VEVENT
BEGIN:VEVENT
DTSTART;TZID=Pacific/Honolulu:20250502T170000
DTEND;TZID=Pacific/Honolulu:20250502T200000
DTSTAMP:20260425T070911
CREATED:20250417T221712Z
LAST-MODIFIED:20250417T221735Z
UID:2240-1746205200-1746216000@kauaiadaptation.com
SUMMARY:In-Person Open House & Student Film Screening!
DESCRIPTION:
URL:https://kauaiadaptation.com/event/in-person-open-house-student-film-screening/
LOCATION:KCC Fine Arts Room\, 3-1901 Kaumualii Hwy\, Lihue\, HI\, United States
CATEGORIES:Open House
END:VEVENT
BEGIN:VEVENT
DTSTART;TZID=Pacific/Honolulu:20230920T170000
DTEND;TZID=Pacific/Honolulu:20230920T190000
DTSTAMP:20260425T070911
CREATED:20230906T164839Z
LAST-MODIFIED:20230906T164839Z
UID:2043-1695229200-1695236400@kauaiadaptation.com
SUMMARY:Climate Action Strategies In-Person Workshop—St. Catherine School
DESCRIPTION:The County of Kaua‘i would like your feedback on proposed climate action strategies for the Kaua‘i Climate Adaptation and Action Plan (KCAP)! Learn more and share your thoughts on how greenhouse gas mitigation strategies could be implemented in your community. \nTwo in-person workshops in open house formats will be held as follows: \n\nTuesday\, Sept. 19\, from 5 to 7 p.m.\, at the Kalāheo Neighborhood Center; and\nWednesday\, Sept. 20\, from 5 to 7 p.m.\, at the St. Catherine’s School Cafeteria.\n\nRefreshments will be provided at all in-person workshops.
URL:https://kauaiadaptation.com/event/climate-action-strategies-in-person-workshop-st-catherine-school/
LOCATION:St. Catherine School\, 5021 Kawaihau Rd\, Kapaa\, HI\, 96746\, United States
CATEGORIES:Community Workshops
END:VEVENT
BEGIN:VEVENT
DTSTART;TZID=Pacific/Honolulu:20230919T170000
DTEND;TZID=Pacific/Honolulu:20230919T190000
DTSTAMP:20260425T070911
CREATED:20230906T164253Z
LAST-MODIFIED:20230906T164253Z
UID:2040-1695142800-1695150000@kauaiadaptation.com
SUMMARY:Climate Action Strategies In-Person Workshop—Kalāheo Neighborhood Center
DESCRIPTION:The County of Kaua‘i would like your feedback on proposed climate action strategies for the Kaua‘i Climate Adaptation and Action Plan (KCAP)! Learn more and share your thoughts on how greenhouse gas mitigation strategies could be implemented in your community. \nTwo in-person workshops in open house formats will be held as follows: \n\nTuesday\, Sept. 19\, from 5 to 7 p.m.\, at the Kalāheo Neighborhood Center; and\nWednesday\, Sept. 20\, from 5 to 7 p.m.\, at the St. Catherine’s School Cafeteria.\n\nRefreshments will be provided at all in-person workshops.
URL:https://kauaiadaptation.com/event/climate-action-strategies-in-person-workshop-kalaheo-neighborhood-center/
LOCATION:Kalāheo Neighborhood Center\, 4480 Papalina Rd\, Kalaheo\, HI\, 96741\, United States
CATEGORIES:Community Workshops
END:VEVENT
BEGIN:VEVENT
DTSTART;TZID=Pacific/Honolulu:20230914T170000
DTEND;TZID=Pacific/Honolulu:20230914T190000
DTSTAMP:20260425T070911
CREATED:20230906T163828Z
LAST-MODIFIED:20230906T163828Z
UID:2037-1694710800-1694718000@kauaiadaptation.com
SUMMARY:Climate Action Strategies Virtual Workshop
DESCRIPTION:The County of Kaua‘i would like your feedback on proposed climate action strategies for the Kaua‘i Climate Adaptation and Action Plan (KCAP)! Learn more and share your thoughts on how greenhouse gas mitigation strategies could be implemented in your community. \n  \nA virtual workshop will be held on Thursday\, Sept. 14\, from 5 to 7 p.m.\, via Zoom. Register here: https://kauai.zoom.us/meeting/register/tZIlce6grz0qGt1OwMHjrWUF0OZvsXZDW-zj
URL:https://kauaiadaptation.com/event/climate-action-strategies-virtual-workshop/
LOCATION:Virtual
CATEGORIES:Community Workshops
END:VEVENT
BEGIN:VEVENT
DTSTART;TZID=Pacific/Honolulu:20230615T170000
DTEND;TZID=Pacific/Honolulu:20230615T190000
DTSTAMP:20260425T070911
CREATED:20230421T223237Z
LAST-MODIFIED:20230421T231053Z
UID:1865-1686848400-1686855600@kauaiadaptation.com
SUMMARY:In-Person Climate Adaptation Workshop - Hanalei
DESCRIPTION:The County of Kaua‘i would like your feedback on proposed climate adaptation strategies for the Kaua‘i Climate Adaptation Plan (KCAP)! Learn more and share your thoughts on how adaptation strategies could be implemented in your community. \nA light vegan dinner is provided! Bring your family! \nDownload the flyer
URL:https://kauaiadaptation.com/event/in-person-climate-adaptation-workshop-hanalei/
LOCATION:Hanalei Elementary School\, 5-5415 Kuhio Highway\, Hanalei\, HI\, 96714\, United States
CATEGORIES:Community Workshops
END:VEVENT
BEGIN:VEVENT
DTSTART;TZID=Pacific/Honolulu:20230613T170000
DTEND;TZID=Pacific/Honolulu:20230613T190000
DTSTAMP:20260425T070911
CREATED:20230421T223009Z
LAST-MODIFIED:20230421T231121Z
UID:1863-1686675600-1686682800@kauaiadaptation.com
SUMMARY:In-Person Climate Adaptation Workshop - Kapa‘a
DESCRIPTION:The County of Kaua‘i would like your feedback on proposed climate adaptation strategies for the Kaua‘i Climate Adaptation Plan (KCAP)! Learn more and share your thoughts on how adaptation strategies could be implemented in your community. \nA light vegan dinner is provided! Bring your family! \nDownload the flyer
URL:https://kauaiadaptation.com/event/in-person-climate-adaptation-workshop-kapaa/
LOCATION:St. Catherine School\, 5021 Kawaihau Rd\, Kapaa\, HI\, 96746\, United States
CATEGORIES:Community Workshops
END:VEVENT
BEGIN:VEVENT
DTSTART;TZID=Pacific/Honolulu:20230606T170000
DTEND;TZID=Pacific/Honolulu:20230606T190000
DTSTAMP:20260425T070911
CREATED:20230421T222722Z
LAST-MODIFIED:20230421T231147Z
UID:1861-1686070800-1686078000@kauaiadaptation.com
SUMMARY:In-Person Climate Adaptation Workshop - Waimea
DESCRIPTION:The County of Kaua‘i would like your feedback on proposed climate adaptation strategies for the Kaua‘i Climate Adaptation Plan (KCAP)! Learn more and share your thoughts on how adaptation strategies could be implemented in your community. \nA light vegan dinner is provided! Bring your family! \nDownload the flyer
URL:https://kauaiadaptation.com/event/in-person-climate-adaptation-workshop-waimea/
LOCATION:Waimea Neighborhood Center\, 4556 Makeke Rd\, Waimea\, HI\, 96796\, United States
CATEGORIES:Community Workshops
END:VEVENT
BEGIN:VEVENT
DTSTART;TZID=Pacific/Honolulu:20230601T170000
DTEND;TZID=Pacific/Honolulu:20230601T190000
DTSTAMP:20260425T070911
CREATED:20230421T222538Z
LAST-MODIFIED:20230421T231211Z
UID:1859-1685638800-1685646000@kauaiadaptation.com
SUMMARY:In-Person Climate Adaptation Workshop - Kōloa
DESCRIPTION:The County of Kaua‘i would like your feedback on proposed climate adaptation strategies for the Kaua‘i Climate Adaptation Plan (KCAP)! Learn more and share your thoughts on how adaptation strategies could be implemented in your community. \nA light vegan dinner is provided! Bring your family! \nDownload the flyer
URL:https://kauaiadaptation.com/event/in-person-climate-adaptation-workshop-koloa/
LOCATION:Kōloa Neighborhood Center\, 3461B Weliweli Rd\, Kōloa\, HI\, 96756\, United States
CATEGORIES:Community Workshops
END:VEVENT
BEGIN:VEVENT
DTSTART;TZID=Pacific/Honolulu:20230517T170000
DTEND;TZID=Pacific/Honolulu:20230517T190000
DTSTAMP:20260425T070911
CREATED:20230421T222143Z
LAST-MODIFIED:20230421T231303Z
UID:1857-1684342800-1684350000@kauaiadaptation.com
SUMMARY:In-Person Climate Adaptation Workshop - Līhu‘e
DESCRIPTION:The County of Kaua‘i would like your feedback on proposed climate adaptation strategies for the Kaua‘i Climate Adaptation Plan (KCAP)! Learn more and share your thoughts on how adaptation strategies could be implemented in your community. \nA light vegan dinner is provided! Bring your family! \nDownload the flyer
URL:https://kauaiadaptation.com/event/in-person-climate-adaptation-workshop-lihue/
LOCATION:Līhu‘e Civic Center – Moikeha Building Conference Room 2\, 4444 Rice St\, Līhu‘e\, HI\, 96766\, United States
END:VEVENT
BEGIN:VEVENT
DTSTART;TZID=Pacific/Honolulu:20230510T170000
DTEND;TZID=Pacific/Honolulu:20230510T190000
DTSTAMP:20260425T070911
CREATED:20230421T215359Z
LAST-MODIFIED:20230421T231351Z
UID:1843-1683738000-1683745200@kauaiadaptation.com
SUMMARY:Online Climate Adaptation Workshop
DESCRIPTION:The County of Kaua‘i would like your feedback on proposed climate adaptation strategies for the Kaua‘i Climate Adaptation Plan (KCAP)! Learn more and share your thoughts on how adaptation strategies could be implemented in your community. \nPre-Registration is required to attend the Online Workshop. Sign up here! \nDownload the flyer
URL:https://kauaiadaptation.com/event/online-climate-adaptation-workshop/
LOCATION:HI
CATEGORIES:Community Workshops
END:VEVENT
BEGIN:VEVENT
DTSTART;VALUE=DATE:20230510
DTEND;VALUE=DATE:20230624
DTSTAMP:20260425T070911
CREATED:20230510T165435Z
LAST-MODIFIED:20230510T170142Z
UID:1924-1683676800-1687564799@kauaiadaptation.com
SUMMARY:KCAP Adaptation Strategies Poll
DESCRIPTION:Take the online poll to provide input on climate adaptation strategies to include in the KCAP. Poll is open May 10 through June 23.
URL:https://kauaiadaptation.com/event/kcap-adaptation-strategies-poll/
LOCATION:HI
END:VEVENT
BEGIN:VEVENT
DTSTART;TZID=Pacific/Honolulu:20220507T100000
DTEND;TZID=Pacific/Honolulu:20220507T120000
DTSTAMP:20260425T070911
CREATED:20220406T205035Z
LAST-MODIFIED:20220420T233446Z
UID:1623-1651917600-1651924800@kauaiadaptation.com
SUMMARY:Youth Climate Summit
DESCRIPTION:Calling out all youth from ages 11 to 25 years old! We invite you to join us in the County’s first Youth Climate Summit as we hear from youth leaders about their journey towards climate action. You’ll learn of local climate hazards that will impact our island and how daily activities could be affected. And\, it will be an opportunity to talk story and collaborate with fellow youth on how we can prepare as a community. \nAdmission is free! Breakfast is included with an opportunity to win prizes. Youth can gain up to two hours of community service for attending the event. Additional volunteer hours are available for those interested in facilitating and preparing for the summit. \nRegister for the event here \nFor participants under 18 years old: Please note that an email will be sent to a parent or legal guardian to sign the County’s consent form for minors. Please follow the instructions in the email and make sure to sign the forms. \nDownload and share the event flyer
URL:https://kauaiadaptation.com/event/youth-climate-summit/
LOCATION:Kauaʻi Phillipine Cultural Center\, 4431 Nuhou St\, Lihue\, HI\, 96766\, United States
CATEGORIES:Youth Engagement
ATTACH;FMTTYPE=image/png:https://kauaiadaptation.com/wp-content/uploads/2022/04/KYCS-Flyer-03_yr.png
END:VEVENT
BEGIN:VEVENT
DTSTART;TZID=Pacific/Honolulu:20220409T090000
DTEND;TZID=Pacific/Honolulu:20220409T120000
DTSTAMP:20260425T070911
CREATED:20220309T202759Z
LAST-MODIFIED:20220404T173631Z
UID:1470-1649494800-1649505600@kauaiadaptation.com
SUMMARY:‘Aina Ho‘okupu o Kilauea Open House
DESCRIPTION:Attend the in-person open house for the Kaua‘i Climate Adaptation Plan at ‘Aina Ho‘okupu o Kilauea!
URL:https://kauaiadaptation.com/event/aina-hookupu-o-kilauea-open-house/
LOCATION:Aina Hookupu o Kilauea\, 3000 Kilauea Rd\, Kilauea\, HI\, 96754\, United States
CATEGORIES:Open House
ATTACH;FMTTYPE=image/png:https://kauaiadaptation.com/wp-content/uploads/2022/03/EventHeader_OpenHouse_AinaHookupuoKilauea.png
END:VEVENT
BEGIN:VEVENT
DTSTART;TZID=Pacific/Honolulu:20220407T160000
DTEND;TZID=Pacific/Honolulu:20220407T190000
DTSTAMP:20260425T070911
CREATED:20220309T202652Z
LAST-MODIFIED:20220404T173534Z
UID:1468-1649347200-1649358000@kauaiadaptation.com
SUMMARY:Koloa Neighborhood Center Open House
DESCRIPTION:Attend the in-person open house event for the Kaua‘i Climate Adaptation Plan at the Koloa Neighborhood Center!
URL:https://kauaiadaptation.com/event/koloa-neighborhood-center/
LOCATION:Koloa Neighborhood Center\, 3461B Weliweli Rd\, Koloa\, HI\, 96756\, United States
CATEGORIES:Open House
ATTACH;FMTTYPE=image/png:https://kauaiadaptation.com/wp-content/uploads/2022/03/EventHeader_OpenHouse_KoloaNeighborhoodCenter.png
END:VEVENT
BEGIN:VEVENT
DTSTART;TZID=Pacific/Honolulu:20220405T160000
DTEND;TZID=Pacific/Honolulu:20220405T190000
DTSTAMP:20260425T070911
CREATED:20220309T202613Z
LAST-MODIFIED:20220404T173458Z
UID:1466-1649174400-1649185200@kauaiadaptation.com
SUMMARY:Kapa‘a Neighborhood Center Open House
DESCRIPTION:Attend the in-person open house for the Kaua‘i Climate Adaptation Plan at the Kapa‘a Neighborhood Center!
URL:https://kauaiadaptation.com/event/kapaa-neighborhood-center-open-house/
LOCATION:Kapaa Neighborhood Center\, 4491 Kou St\, Kapaa\, HI\, 96746\, United States
CATEGORIES:Open House
ATTACH;FMTTYPE=image/png:https://kauaiadaptation.com/wp-content/uploads/2022/03/EventHeader_OpenHouse_KapaaNeighborhoodCenter.png
END:VEVENT
BEGIN:VEVENT
DTSTART;TZID=Pacific/Honolulu:20220402T090000
DTEND;TZID=Pacific/Honolulu:20220402T120000
DTSTAMP:20260425T070911
CREATED:20220309T202427Z
LAST-MODIFIED:20220404T163753Z
UID:1464-1648890000-1648900800@kauaiadaptation.com
SUMMARY:Kukui Grove Center Open House
DESCRIPTION:Attend the in-person open house event for the Kauai Climate Adaptation Plan at the Kukui Grove Center food court!
URL:https://kauaiadaptation.com/event/kukui-grove-center-open-house/
LOCATION:Kukui Grove Center\, 2600 Kaumualii Hwy\, Lihue\, HI\, 96766\, United States
CATEGORIES:Open House
END:VEVENT
BEGIN:VEVENT
DTSTART;TZID=Pacific/Honolulu:20220328T160000
DTEND;TZID=Pacific/Honolulu:20220328T190000
DTSTAMP:20260425T070911
CREATED:20220309T203033Z
LAST-MODIFIED:20220309T214230Z
UID:1472-1648483200-1648494000@kauaiadaptation.com
SUMMARY:Kekaha Neighborhood Center Open House
DESCRIPTION:
URL:https://kauaiadaptation.com/event/kekaha-neighborhood-center-open-house/
LOCATION:Kekaha Neighborhood Center\, 8130 Elepaio Rd\, Kekaha\, HI\, 96752\, United States
CATEGORIES:Open House
END:VEVENT
BEGIN:VEVENT
DTSTART;TZID=Pacific/Honolulu:20220323T173000
DTEND;TZID=Pacific/Honolulu:20220323T193000
DTSTAMP:20260425T070911
CREATED:20220304T175115Z
LAST-MODIFIED:20220708T175846Z
UID:1268-1648056600-1648063800@kauaiadaptation.com
SUMMARY:Virtual Open House #1
DESCRIPTION:How do you experience the impacts of climate change in your community or island wide? What ideas do you have for climate change adaptation? What values and principles should drive Kaua‘i’s plans for the future? \nWe would like to invite you to the first virtual open house for the Kaua’i Climate Adaptation Plan (CAP)! Learn about the CAP and share you input through polls\, interactive written comment exercises\, and small group discussion. \nDownload the Meeting Agenda and Guide \nRead the Open House Series 1 Summary \nIf you need an auxiliary aid/service or other accommodation due to a disability\, contact Marie Williams at (808) 241-4050 or mwilliams@kauai.gov as soon as possible. Requests made as early as possible will allow adequate time to fulfill your request. Upon request\, this notice is available in alternate formats such as large print\, Braille\, or electronic copy.
URL:https://kauaiadaptation.com/event/virtual-open-house-1/
LOCATION:HI
CATEGORIES:Open House
END:VEVENT
END:VCALENDAR